BEGIN:VCALENDAR
VERSION:2.0
PRODID:-//Centre de Restauració i Interpretació Paleontològic - ECPv6.3.2//NONSGML v1.0//EN
CALSCALE:GREGORIAN
METHOD:PUBLISH
X-WR-CALNAME:Centre de Restauració i Interpretació Paleontològic
X-ORIGINAL-URL:https://crip.cat
X-WR-CALDESC:Esdeveniments per Centre de Restauració i Interpretació Paleontològic
REFRESH-INTERVAL;VALUE=DURATION:PT1H
X-Robots-Tag:noindex
X-PUBLISHED-TTL:PT1H
BEGIN:VTIMEZONE
TZID:Europe/Madrid
BEGIN:DAYLIGHT
TZOFFSETFROM:+0100
TZOFFSETTO:+0200
TZNAME:CEST
DTSTART:20260329T010000
END:DAYLIGHT
BEGIN:STANDARD
TZOFFSETFROM:+0200
TZOFFSETTO:+0100
TZNAME:CET
DTSTART:20261025T010000
END:STANDARD
END:VTIMEZONE
BEGIN:VEVENT
DTSTART;TZID=Europe/Madrid:20261003T120000
DTEND;TZID=Europe/Madrid:20261003T130000
DTSTAMP:20260423T192400
CREATED:20260119T122904Z
LAST-MODIFIED:20260122T130039Z
UID:5166-1791028800-1791032400@crip.cat
SUMMARY:Línia del temps geològic
DESCRIPTION:TALLER FAMILIAR \nPlaces: 20 \n\n\n\n\n\n  \nRessegueix el temps geològic amb aquest taller preparat especialment per entendre l’evolució geològica i paleontològica del nostre planeta.  \nDes del naixement\, entre foc i fum\, de la Terra fins als nostres dies\, passant per l’aparició de la vida\, l’extinció dels dinosaures i l’evolució de l’home.  \nT’atreveixes a seguir el fil del temps?\n                \n                        \n                            \n                        \n                        Nom i cognoms*Correu electrònic*\n                            \n                        Adreça*Població*Telèfon*Nombre de participants*ObservacionsLOPD*\n								\n								Sé que aquestes dades seran tractades correctament com s'explica a la política de privacitat.\n							NameAquest camp només és per validació i no s'ha de modificar.
URL:https://crip.cat/event/linia-del-temps-geologic-21/
LOCATION:Centre de Restauració i Interpretació Paleontològica\, Centre de Restauració i Interpretació Paleontològica (CRIP)\, Els Hostalets de Pierola\, Barcelona\, 08781\, Espanya
ATTACH;FMTTYPE=image/png:https://crip.cat/wp-content/uploads/2024/02/geo.png
ORGANIZER;CN="CRIP":MAILTO:info@crip.cat
END:VEVENT
BEGIN:VEVENT
DTSTART;TZID=Europe/Madrid:20261025T120000
DTEND;TZID=Europe/Madrid:20261025T133000
DTSTAMP:20260423T192400
CREATED:20260119T120341Z
LAST-MODIFIED:20260122T130045Z
UID:5152-1792929600-1792935000@crip.cat
SUMMARY:Dona'm una dent i et diré qui ets
DESCRIPTION:TALLER FAMILIAR\nPlaces: 20 \nLes dents ens donen una gran quantitat d’informació i\, sovint\, són les úniques peces que ens permeten identificar algunes de les espècies que poblaven els boscos del Miocè. \nAmb aquest taller\, descobrirem les funcions de les dents i com identificar-ne els propietaris. \n\n                        \n                            \n                        \n                        Nom i cognoms*Correu electrònic*\n                            \n                        Adreça*Població*Telèfon*Nombre de participants*ObservacionsLOPD*\n								\n								Sé que aquestes dades seran tractades correctament com s'explica a la política de privacitat.\n							EmailAquest camp només és per validació i no s'ha de modificar.
URL:https://crip.cat/event/donam-una-dent-i-et-dire-qui-ets-17/
LOCATION:Centre de Restauració i Interpretació Paleontològica\, Centre de Restauració i Interpretació Paleontològica (CRIP)\, Els Hostalets de Pierola\, Barcelona\, 08781\, Espanya
ATTACH;FMTTYPE=image/jpeg:https://crip.cat/wp-content/uploads/2024/02/Donam-una-dent-2-scaled.jpg
ORGANIZER;CN="CRIP":MAILTO:info@crip.cat
END:VEVENT
END:VCALENDAR