BEGIN:VCALENDAR
VERSION:2.0
PRODID:-//Centre de Restauració i Interpretació Paleontològic - ECPv6.3.2//NONSGML v1.0//EN
CALSCALE:GREGORIAN
METHOD:PUBLISH
X-WR-CALNAME:Centre de Restauració i Interpretació Paleontològic
X-ORIGINAL-URL:https://crip.cat
X-WR-CALDESC:Esdeveniments per Centre de Restauració i Interpretació Paleontològic
REFRESH-INTERVAL;VALUE=DURATION:PT1H
X-Robots-Tag:noindex
X-PUBLISHED-TTL:PT1H
BEGIN:VTIMEZONE
TZID:Europe/Madrid
BEGIN:DAYLIGHT
TZOFFSETFROM:+0100
TZOFFSETTO:+0200
TZNAME:CEST
DTSTART:20260329T010000
END:DAYLIGHT
BEGIN:STANDARD
TZOFFSETFROM:+0200
TZOFFSETTO:+0100
TZNAME:CET
DTSTART:20261025T010000
END:STANDARD
END:VTIMEZONE
BEGIN:VEVENT
DTSTART;TZID=Europe/Madrid:20260802T120000
DTEND;TZID=Europe/Madrid:20260802T133000
DTSTAMP:20260423T163406
CREATED:20260119T131338Z
LAST-MODIFIED:20260122T125155Z
UID:5206-1785672000-1785677400@crip.cat
SUMMARY:En Pau: Pierolapithecus catalaunicus
DESCRIPTION:TALLER ADULTS\, + 14 anys\nPlaces: 20 \nQue al jaciment de Barranc de Can Vila apareguessin restes fòssils el 2002 no va ser cap sorpresa. El que sí va ser una troballa excepcional va ser l’aparició d’un nou primat que\, amb la recerca posterior\, enllacés els primats més antics amb la família Hominidae\, esdevenint la baula entre els primers simis i la nostra espècie.  \nAmb aquest taller\, descobrirem els elements que fan que en Pau sigui clau per a l’estudi de la gran família dels grans simis. \n\n                \n                        \n                            \n                        \n                        Nom i cognoms*Correu electrònic*\n                            \n                        Adreça*Població*Telèfon*Nombre de participants*ObservacionsLOPD*\n								\n								Sé que aquestes dades seran tractades correctament com s'explica a la política de privacitat.\n							CommentsAquest camp només és per validació i no s'ha de modificar.
URL:https://crip.cat/event/en-pau-pierolapithecus-catalaunicus-3/
LOCATION:Centre de Restauració i Interpretació Paleontològica\, Centre de Restauració i Interpretació Paleontològica (CRIP)\, Els Hostalets de Pierola\, Barcelona\, 08781\, Espanya
ATTACH;FMTTYPE=image/jpeg:https://crip.cat/wp-content/uploads/2024/02/Taller-del-Pau.jpeg
ORGANIZER;CN="CRIP":MAILTO:info@crip.cat
END:VEVENT
BEGIN:VEVENT
DTSTART;TZID=Europe/Madrid:20260805T120000
DTEND;TZID=Europe/Madrid:20260805T130000
DTSTAMP:20260423T163406
CREATED:20260119T125922Z
LAST-MODIFIED:20260122T125157Z
UID:5190-1785931200-1785934800@crip.cat
SUMMARY:La gimcana del Pau
DESCRIPTION:TALLER FAMILIAR\n\nPlaces: 6\nAquesta activitat pretén conèixer de manera lúdica l’espècie de primat més important dels Hostalets de Pierola\, en Pau\, Pierolapithecus catalaunicus\, mitjançant una sèrie de jocs.\nUna gimcana que es pot fer de forma cooperativa o de forma competitiva entre els nens i famílies participants. \n  \n\n                \n                        \n                            \n                        \n                        Nom i cognoms*Correu electrònic*\n                            \n                        Adreça*Població*Telèfon*Nombre de participants*ObservacionsLOPD*\n								\n								Sé que aquestes dades seran tractades correctament com s'explica a la política de privacitat.\n							EmailAquest camp només és per validació i no s'ha de modificar.
URL:https://crip.cat/event/la-gimcana-del-pau-14/
LOCATION:Centre de Restauració i Interpretació Paleontològica\, Centre de Restauració i Interpretació Paleontològica (CRIP)\, Els Hostalets de Pierola\, Barcelona\, 08781\, Espanya
ATTACH;FMTTYPE=image/jpeg:https://crip.cat/wp-content/uploads/2025/03/WhatsApp-Image-2025-01-20-at-10.20.48.jpeg
ORGANIZER;CN="CRIP":MAILTO:info@crip.cat
END:VEVENT
BEGIN:VEVENT
DTSTART;TZID=Europe/Madrid:20260816T120000
DTEND;TZID=Europe/Madrid:20260816T130000
DTSTAMP:20260423T163406
CREATED:20260119T122347Z
LAST-MODIFIED:20260122T125159Z
UID:5164-1786881600-1786885200@crip.cat
SUMMARY:Línia del temps geològic
DESCRIPTION:TALLER FAMILIAR \nPlaces: 20 \n\n\n\n\n\n  \nRessegueix el temps geològic amb aquest taller preparat especialment per entendre l’evolució geològica i paleontològica del nostre planeta.  \nDes del naixement\, entre foc i fum\, de la Terra fins als nostres dies\, passant per l’aparició de la vida\, l’extinció dels dinosaures i l’evolució de l’home.  \nT’atreveixes a seguir el fil del temps?\n                \n                        \n                            \n                        \n                        Nom i cognoms*Correu electrònic*\n                            \n                        Adreça*Població*Telèfon*Nombre de participants*ObservacionsLOPD*\n								\n								Sé que aquestes dades seran tractades correctament com s'explica a la política de privacitat.\n							CommentsAquest camp només és per validació i no s'ha de modificar.
URL:https://crip.cat/event/linia-del-temps-geologic-20/
LOCATION:Centre de Restauració i Interpretació Paleontològica\, Centre de Restauració i Interpretació Paleontològica (CRIP)\, Els Hostalets de Pierola\, Barcelona\, 08781\, Espanya
ATTACH;FMTTYPE=image/png:https://crip.cat/wp-content/uploads/2024/02/geo.png
ORGANIZER;CN="CRIP":MAILTO:info@crip.cat
END:VEVENT
BEGIN:VEVENT
DTSTART;TZID=Europe/Madrid:20260819T120000
DTEND;TZID=Europe/Madrid:20260819T140000
DTSTAMP:20260423T163407
CREATED:20260119T125150Z
LAST-MODIFIED:20260122T125201Z
UID:5182-1787140800-1787148000@crip.cat
SUMMARY:Evolució humana: d'on venim?
DESCRIPTION:TALLER ADULTS +16 anys \nPlaces: 20 \nAprofundirem en la filogenia del gènere Homo\, partint de la superfamília hominoidea (on situem en Pau\, el Pierolapithecus catalaunicus) fins arribar als hominins i les diferents espècies del gènere Homo.  \nAnalitzarem\, identificarem i relacionarem diferents cranis amb la forma de vida i el medi ambient\,  elements que condicionen els mecanismes evolutius. \n\n                        \n                            \n                        \n                        Nom i cognoms*Correu electrònic*\n                            \n                        Adreça*Població*Telèfon*Nombre de participants*ObservacionsLOPD*\n								\n								Sé que aquestes dades seran tractades correctament com s'explica a la política de privacitat.\n							EmailAquest camp només és per validació i no s'ha de modificar.\n                            \n          \n            \n            \n            \n            \n            \n            \n            \n            \n            \n        \n                        \n                         \n  \n 
URL:https://crip.cat/event/evolucio-humana-don-venim-7/
LOCATION:Centre de Restauració i Interpretació Paleontològica\, Centre de Restauració i Interpretació Paleontològica (CRIP)\, Els Hostalets de Pierola\, Barcelona\, 08781\, Espanya
ATTACH;FMTTYPE=image/jpeg:https://crip.cat/wp-content/uploads/2024/02/Foto-Evolucio-1.jpg
ORGANIZER;CN="CRIP":MAILTO:info@crip.cat
END:VEVENT
BEGIN:VEVENT
DTSTART;TZID=Europe/Madrid:20260822T120000
DTEND;TZID=Europe/Madrid:20260822T133000
DTSTAMP:20260423T163407
CREATED:20260119T120037Z
LAST-MODIFIED:20260122T125203Z
UID:5150-1787400000-1787405400@crip.cat
SUMMARY:Dona'm una dent i et diré qui ets
DESCRIPTION:TALLER FAMILIAR\nPlaces: 20 \nLes dents ens donen una gran quantitat d’informació i\, sovint\, són les úniques peces que ens permeten identificar algunes de les espècies que poblaven els boscos del Miocè. \nAmb aquest taller\, descobrirem les funcions de les dents i com identificar-ne els propietaris. \n\n                        \n                            \n                        \n                        Nom i cognoms*Correu electrònic*\n                            \n                        Adreça*Població*Telèfon*Nombre de participants*ObservacionsLOPD*\n								\n								Sé que aquestes dades seran tractades correctament com s'explica a la política de privacitat.\n							CommentsAquest camp només és per validació i no s'ha de modificar.
URL:https://crip.cat/event/donam-una-dent-i-et-dire-qui-ets-16/
LOCATION:Centre de Restauració i Interpretació Paleontològica\, Centre de Restauració i Interpretació Paleontològica (CRIP)\, Els Hostalets de Pierola\, Barcelona\, 08781\, Espanya
ATTACH;FMTTYPE=image/jpeg:https://crip.cat/wp-content/uploads/2024/02/Donam-una-dent-2-scaled.jpg
ORGANIZER;CN="CRIP":MAILTO:info@crip.cat
END:VEVENT
BEGIN:VEVENT
DTSTART;TZID=Europe/Madrid:20260826T120000
DTEND;TZID=Europe/Madrid:20260826T130000
DTSTAMP:20260423T163407
CREATED:20260119T110106Z
LAST-MODIFIED:20260122T125154Z
UID:5128-1787745600-1787749200@crip.cat
SUMMARY:Excavem el Miocè
DESCRIPTION:TALLER FAMILIAR\nPlaces: 14\nTrobar un fòssil no és una feina fàcil. Cal saber on buscar però també com fer-ho. I un cop trobat\, la feina no s’acaba\, de quin animal era aquell os petrificat?  \nSigues paleontòleg per un dia\, excavant el nostre jaciment i identificant les teves troballes.  \n  \n\n                        \n                            \n                        \n                        Nom i cognoms*Correu electrònic*\n                            \n                        Adreça*Població*Telèfon*Nombre de participants*ObservacionsLOPD*\n								\n								Sé que aquestes dades seran tractades correctament com s'explica a la política de privacitat.\n							NameAquest camp només és per validació i no s'ha de modificar.
URL:https://crip.cat/event/excavem-el-mioce-32/
LOCATION:Centre de Restauració i Interpretació Paleontològica\, Centre de Restauració i Interpretació Paleontològica (CRIP)\, Els Hostalets de Pierola\, Barcelona\, 08781\, Espanya
ATTACH;FMTTYPE=image/jpeg:https://crip.cat/wp-content/uploads/2024/09/WhatsApp-Image-2022-10-25-at-11.12.51.jpg
ORGANIZER;CN="CRIP":MAILTO:info@crip.cat
END:VEVENT
END:VCALENDAR