BEGIN:VCALENDAR
VERSION:2.0
PRODID:-//Centre de Restauració i Interpretació Paleontològic - ECPv6.3.2//NONSGML v1.0//EN
CALSCALE:GREGORIAN
METHOD:PUBLISH
X-ORIGINAL-URL:https://crip.cat
X-WR-CALDESC:Esdeveniments per Centre de Restauració i Interpretació Paleontològic
REFRESH-INTERVAL;VALUE=DURATION:PT1H
X-Robots-Tag:noindex
X-PUBLISHED-TTL:PT1H
BEGIN:VTIMEZONE
TZID:Europe/Madrid
BEGIN:DAYLIGHT
TZOFFSETFROM:+0100
TZOFFSETTO:+0200
TZNAME:CEST
DTSTART:20260329T010000
END:DAYLIGHT
BEGIN:STANDARD
TZOFFSETFROM:+0200
TZOFFSETTO:+0100
TZNAME:CET
DTSTART:20261025T010000
END:STANDARD
END:VTIMEZONE
BEGIN:VEVENT
DTSTART;TZID=Europe/Madrid:20260704T120000
DTEND;TZID=Europe/Madrid:20260704T130000
DTSTAMP:20260423T151002
CREATED:20260119T122205Z
LAST-MODIFIED:20260122T123856Z
UID:5162-1783166400-1783170000@crip.cat
SUMMARY:Línia del temps geològic
DESCRIPTION:TALLER FAMILIAR \nPlaces: 20 \n\n\n\n\n\n  \nRessegueix el temps geològic amb aquest taller preparat especialment per entendre l’evolució geològica i paleontològica del nostre planeta.  \nDes del naixement\, entre foc i fum\, de la Terra fins als nostres dies\, passant per l’aparició de la vida\, l’extinció dels dinosaures i l’evolució de l’home.  \nT’atreveixes a seguir el fil del temps?\n                \n                        \n                            \n                        \n                        Nom i cognoms*Correu electrònic*\n                            \n                        Adreça*Població*Telèfon*Nombre de participants*ObservacionsLOPD*\n								\n								Sé que aquestes dades seran tractades correctament com s'explica a la política de privacitat.\n							PhoneAquest camp només és per validació i no s'ha de modificar.
URL:https://crip.cat/event/linia-del-temps-geologic-19/
LOCATION:Centre de Restauració i Interpretació Paleontològica\, Centre de Restauració i Interpretació Paleontològica (CRIP)\, Els Hostalets de Pierola\, Barcelona\, 08781\, Espanya
ATTACH;FMTTYPE=image/png:https://crip.cat/wp-content/uploads/2024/02/geo.png
ORGANIZER;CN="CRIP":MAILTO:info@crip.cat
END:VEVENT
BEGIN:VEVENT
DTSTART;TZID=Europe/Madrid:20260712T120000
DTEND;TZID=Europe/Madrid:20260712T130000
DTSTAMP:20260423T151002
CREATED:20260119T110017Z
LAST-MODIFIED:20260122T123924Z
UID:5126-1783857600-1783861200@crip.cat
SUMMARY:Excavem el Miocè
DESCRIPTION:TALLER FAMILIAR\nPlaces: 14\nTrobar un fòssil no és una feina fàcil. Cal saber on buscar però també com fer-ho. I un cop trobat\, la feina no s’acaba\, de quin animal era aquell os petrificat?  \nSigues paleontòleg per un dia\, excavant el nostre jaciment i identificant les teves troballes.  \n  \n\n                        \n                            \n                        \n                        Nom i cognoms*Correu electrònic*\n                            \n                        Adreça*Població*Telèfon*Nombre de participants*ObservacionsLOPD*\n								\n								Sé que aquestes dades seran tractades correctament com s'explica a la política de privacitat.\n							NameAquest camp només és per validació i no s'ha de modificar.
URL:https://crip.cat/event/excavem-el-mioce-31/
LOCATION:Centre de Restauració i Interpretació Paleontològica\, Centre de Restauració i Interpretació Paleontològica (CRIP)\, Els Hostalets de Pierola\, Barcelona\, 08781\, Espanya
ATTACH;FMTTYPE=image/jpeg:https://crip.cat/wp-content/uploads/2024/09/WhatsApp-Image-2022-10-25-at-11.12.51.jpg
ORGANIZER;CN="CRIP":MAILTO:info@crip.cat
END:VEVENT
BEGIN:VEVENT
DTSTART;TZID=Europe/Madrid:20260715T120000
DTEND;TZID=Europe/Madrid:20260715T133000
DTSTAMP:20260423T151002
CREATED:20260119T115709Z
LAST-MODIFIED:20260122T123940Z
UID:5148-1784116800-1784122200@crip.cat
SUMMARY:Dona'm una dent i et diré qui ets
DESCRIPTION:TALLER FAMILIAR\nPlaces: 20 \nLes dents ens donen una gran quantitat d’informació i\, sovint\, són les úniques peces que ens permeten identificar algunes de les espècies que poblaven els boscos del Miocè. \nAmb aquest taller\, descobrirem les funcions de les dents i com identificar-ne els propietaris. \n\n                        \n                            \n                        \n                        Nom i cognoms*Correu electrònic*\n                            \n                        Adreça*Població*Telèfon*Nombre de participants*ObservacionsLOPD*\n								\n								Sé que aquestes dades seran tractades correctament com s'explica a la política de privacitat.\n							PhoneAquest camp només és per validació i no s'ha de modificar.
URL:https://crip.cat/event/donam-una-dent-i-et-dire-qui-ets-15/
LOCATION:Centre de Restauració i Interpretació Paleontològica\, Centre de Restauració i Interpretació Paleontològica (CRIP)\, Els Hostalets de Pierola\, Barcelona\, 08781\, Espanya
ATTACH;FMTTYPE=image/jpeg:https://crip.cat/wp-content/uploads/2024/02/Donam-una-dent-2-scaled.jpg
ORGANIZER;CN="CRIP":MAILTO:info@crip.cat
END:VEVENT
BEGIN:VEVENT
DTSTART;TZID=Europe/Madrid:20260725T120000
DTEND;TZID=Europe/Madrid:20260725T133000
DTSTAMP:20260423T151002
CREATED:20260119T130637Z
LAST-MODIFIED:20260122T123958Z
UID:5200-1784980800-1784986200@crip.cat
SUMMARY:Carnívors: pandes i falsos dents de sabre
DESCRIPTION:TALLER ADULTS\, + 16 anys\nPlaces: 20 \nAl capdamunt de les xarxes tròfiques hi apareixen sempre els mateixos animals: els carnívors.  \nLa dentició d’aquestes espècies\, algunes localitzades gairebé de forma exclusiva als Hostalets de Pierola\, ens indiquen com s’alimentaven i\, també\, de quines espècies depenien. Però sovint els ullals dels carnívors ens enganyen o\, simplement\, allò que podem saber a partir de la forma només és una petita part. En aquest taller identificarem\, sobretot\, els carnívors més representatius del Miocè\, i com es relacionaven amb el seu entorn. \n\n                        \n                            \n                        \n                        Nom i cognoms*Correu electrònic*\n                            \n                        Adreça*Població*Telèfon*Nombre de participants*ObservacionsLOPD*\n								\n								Sé que aquestes dades seran tractades correctament com s'explica a la política de privacitat.\n							PhoneAquest camp només és per validació i no s'ha de modificar.
URL:https://crip.cat/event/carnivors-pandes-i-falsos-dents-de-sabre-7/
LOCATION:Centre de Restauració i Interpretació Paleontològica\, Centre de Restauració i Interpretació Paleontològica (CRIP)\, Els Hostalets de Pierola\, Barcelona\, 08781\, Espanya
ATTACH;FMTTYPE=image/png:https://crip.cat/wp-content/uploads/2024/02/image-1.png
ORGANIZER;CN="CRIP":MAILTO:info@crip.cat
END:VEVENT
BEGIN:VEVENT
DTSTART;TZID=Europe/Madrid:20260729T120000
DTEND;TZID=Europe/Madrid:20260729T133000
DTSTAMP:20260423T151002
CREATED:20260119T124012Z
LAST-MODIFIED:20260122T124012Z
UID:5174-1785326400-1785331800@crip.cat
SUMMARY:Tocar l'evolució: la forma fa la funció
DESCRIPTION:TALLER ADAPTAT\nPlaces: 15\nEn aquest taller farem un viatge guiat per l’evolució dels proboscidis (elefants) fent servir gairebé tots els sentits.  \nEl guiatge oral i visual hi seran presents\, però sobretot\, la mirada tàctil guanya pes fent servir objectes originals i simbòlics. \n\n                        \n                            \n                        \n                        Nom i cognoms*Correu electrònic*\n                            \n                        Adreça*Població*Telèfon*Nombre de participants*ObservacionsLOPD*\n								\n								Sé que aquestes dades seran tractades correctament com s'explica a la política de privacitat.\n							CommentsAquest camp només és per validació i no s'ha de modificar.
URL:https://crip.cat/event/tocar-levolucio-la-forma-fa-la-funcio-9/
LOCATION:Centre de Restauració i Interpretació Paleontològica\, Centre de Restauració i Interpretació Paleontològica (CRIP)\, Els Hostalets de Pierola\, Barcelona\, 08781\, Espanya
ATTACH;FMTTYPE=image/jpeg:https://crip.cat/wp-content/uploads/2024/02/Tocar-levolucio-1-scaled.jpg
ORGANIZER;CN="CRIP":MAILTO:info@crip.cat
END:VEVENT
END:VCALENDAR