BEGIN:VCALENDAR
VERSION:2.0
PRODID:-//Centre de Restauració i Interpretació Paleontològic - ECPv6.3.2//NONSGML v1.0//EN
CALSCALE:GREGORIAN
METHOD:PUBLISH
X-ORIGINAL-URL:https://crip.cat
X-WR-CALDESC:Esdeveniments per Centre de Restauració i Interpretació Paleontològic
REFRESH-INTERVAL;VALUE=DURATION:PT1H
X-Robots-Tag:noindex
X-PUBLISHED-TTL:PT1H
BEGIN:VTIMEZONE
TZID:Europe/Madrid
BEGIN:DAYLIGHT
TZOFFSETFROM:+0100
TZOFFSETTO:+0200
TZNAME:CEST
DTSTART:20260329T010000
END:DAYLIGHT
BEGIN:STANDARD
TZOFFSETFROM:+0200
TZOFFSETTO:+0100
TZNAME:CET
DTSTART:20261025T010000
END:STANDARD
BEGIN:DAYLIGHT
TZOFFSETFROM:+0100
TZOFFSETTO:+0200
TZNAME:CEST
DTSTART:20270328T010000
END:DAYLIGHT
BEGIN:STANDARD
TZOFFSETFROM:+0200
TZOFFSETTO:+0100
TZNAME:CET
DTSTART:20271031T010000
END:STANDARD
END:VTIMEZONE
BEGIN:VEVENT
DTSTART;TZID=Europe/Madrid:20261229T110000
DTEND;TZID=Europe/Madrid:20261229T140000
DTSTAMP:20260424T025554
CREATED:20260119T131946Z
LAST-MODIFIED:20260122T142001Z
UID:5215-1798542000-1798552800@crip.cat
SUMMARY:Paleojocs de taula
DESCRIPTION:TALLER FAMILIAR \n\n\n\n\n\n  \nEn aquest taller us oferim passar un matí divertit jugant a jocs de taula en família\, però…t’atreveixes a fer un “memory” amb animals del passat?  \nDescobriràs “qui és qui” entre els animals del Miocè?  \n\n                \n                        \n                            \n                        \n                        Nom i cognoms*Correu electrònic*\n                            \n                        Adreça*Població*Telèfon*Nombre de participants*ObservacionsLOPD*\n								\n								Sé que aquestes dades seran tractades correctament com s'explica a la política de privacitat.\n							CommentsAquest camp només és per validació i no s'ha de modificar.
URL:https://crip.cat/event/paleojocs-de-taula-9/
LOCATION:Centre de Restauració i Interpretació Paleontològica\, Centre de Restauració i Interpretació Paleontològica (CRIP)\, Els Hostalets de Pierola\, Barcelona\, 08781\, Espanya
ATTACH;FMTTYPE=image/jpeg:https://crip.cat/wp-content/uploads/2023/12/CARTELL-PALEOJOCS.jpg
ORGANIZER;CN="CRIP":MAILTO:info@crip.cat
END:VEVENT
BEGIN:VEVENT
DTSTART;TZID=Europe/Madrid:20261229T120000
DTEND;TZID=Europe/Madrid:20261229T130000
DTSTAMP:20260424T025554
CREATED:20260119T130343Z
LAST-MODIFIED:20260122T142010Z
UID:5195-1798545600-1798549200@crip.cat
SUMMARY:La gimcana del Pau
DESCRIPTION:TALLER FAMILIAR\n\nPlaces: 6\nAquesta activitat pretén conèixer de manera lúdica l’espècie de primat més important dels Hostalets de Pierola\, en Pau\, Pierolapithecus catalaunicus\, mitjançant una sèrie de jocs.\nUna gimcana que es pot fer de forma cooperativa o de forma competitiva entre els nens i famílies participants. \n  \n\n                        \n                            \n                        \n                        Nom i cognoms*Correu electrònic*\n                            \n                        Adreça*Població*Telèfon*Nombre de participants*ObservacionsLOPD*\n								\n								Sé que aquestes dades seran tractades correctament com s'explica a la política de privacitat.\n							PhoneAquest camp només és per validació i no s'ha de modificar.
URL:https://crip.cat/event/la-gimcana-del-pau-17/
LOCATION:Centre de Restauració i Interpretació Paleontològica\, Centre de Restauració i Interpretació Paleontològica (CRIP)\, Els Hostalets de Pierola\, Barcelona\, 08781\, Espanya
ATTACH;FMTTYPE=image/jpeg:https://crip.cat/wp-content/uploads/2025/03/WhatsApp-Image-2025-01-20-at-10.20.48.jpeg
ORGANIZER;CN="CRIP":MAILTO:info@crip.cat
END:VEVENT
BEGIN:VEVENT
DTSTART;TZID=Europe/Madrid:20270103T110000
DTEND;TZID=Europe/Madrid:20270103T140000
DTSTAMP:20260424T025554
CREATED:20260119T132100Z
LAST-MODIFIED:20260122T142017Z
UID:5217-1798974000-1798984800@crip.cat
SUMMARY:Paleojocs de taula
DESCRIPTION:TALLER FAMILIAR \n\n\n\n\n\n  \nEn aquest taller us oferim passar un matí divertit jugant a jocs de taula en família\, però…t’atreveixes a fer un “memory” amb animals del passat?  \nDescobriràs “qui és qui” entre els animals del Miocè?  \n\n                \n                        \n                            \n                        \n                        Nom i cognoms*Correu electrònic*\n                            \n                        Adreça*Població*Telèfon*Nombre de participants*ObservacionsLOPD*\n								\n								Sé que aquestes dades seran tractades correctament com s'explica a la política de privacitat.\n							EmailAquest camp només és per validació i no s'ha de modificar.
URL:https://crip.cat/event/paleojocs-de-taula-10/
LOCATION:Centre de Restauració i Interpretació Paleontològica\, Centre de Restauració i Interpretació Paleontològica (CRIP)\, Els Hostalets de Pierola\, Barcelona\, 08781\, Espanya
ATTACH;FMTTYPE=image/jpeg:https://crip.cat/wp-content/uploads/2023/12/CARTELL-PALEOJOCS.jpg
ORGANIZER;CN="CRIP":MAILTO:info@crip.cat
END:VEVENT
BEGIN:VEVENT
DTSTART;TZID=Europe/Madrid:20270103T120000
DTEND;TZID=Europe/Madrid:20270103T130000
DTSTAMP:20260424T025554
CREATED:20260119T112155Z
LAST-MODIFIED:20260122T142026Z
UID:5138-1798977600-1798981200@crip.cat
SUMMARY:Excavem el Miocè
DESCRIPTION:TALLER FAMILIAR\nPlaces: 14\nTrobar un fòssil no és una feina fàcil. Cal saber on buscar però també com fer-ho. I un cop trobat\, la feina no s’acaba\, de quin animal era aquell os petrificat?  \nSigues paleontòleg per un dia\, excavant el nostre jaciment i identificant les teves troballes.  \n  \n\n                        \n                            \n                        \n                        Nom i cognoms*Correu electrònic*\n                            \n                        Adreça*Població*Telèfon*Nombre de participants*ObservacionsLOPD*\n								\n								Sé que aquestes dades seran tractades correctament com s'explica a la política de privacitat.\n							EmailAquest camp només és per validació i no s'ha de modificar.
URL:https://crip.cat/event/excavem-el-mioce-37/
LOCATION:Centre de Restauració i Interpretació Paleontològica\, Centre de Restauració i Interpretació Paleontològica (CRIP)\, Els Hostalets de Pierola\, Barcelona\, 08781\, Espanya
ATTACH;FMTTYPE=image/jpeg:https://crip.cat/wp-content/uploads/2024/09/WhatsApp-Image-2022-10-25-at-11.12.51.jpg
ORGANIZER;CN="CRIP":MAILTO:info@crip.cat
END:VEVENT
BEGIN:VEVENT
DTSTART;TZID=Europe/Madrid:20270104T120000
DTEND;TZID=Europe/Madrid:20270104T130000
DTSTAMP:20260424T025555
CREATED:20260119T123541Z
LAST-MODIFIED:20260122T142032Z
UID:5170-1799064000-1799067600@crip.cat
SUMMARY:Línia del temps geològic
DESCRIPTION:TALLER FAMILIAR \nPlaces: 20 \n\n\n\n\n\n  \nRessegueix el temps geològic amb aquest taller preparat especialment per entendre l’evolució geològica i paleontològica del nostre planeta.  \nDes del naixement\, entre foc i fum\, de la Terra fins als nostres dies\, passant per l’aparició de la vida\, l’extinció dels dinosaures i l’evolució de l’home.  \nT’atreveixes a seguir el fil del temps?\n                \n                        \n                            \n                        \n                        Nom i cognoms*Correu electrònic*\n                            \n                        Adreça*Població*Telèfon*Nombre de participants*ObservacionsLOPD*\n								\n								Sé que aquestes dades seran tractades correctament com s'explica a la política de privacitat.\n							CommentsAquest camp només és per validació i no s'ha de modificar.
URL:https://crip.cat/event/linia-del-temps-geologic-23/
LOCATION:Centre de Restauració i Interpretació Paleontològica\, Centre de Restauració i Interpretació Paleontològica (CRIP)\, Els Hostalets de Pierola\, Barcelona\, 08781\, Espanya
ATTACH;FMTTYPE=image/png:https://crip.cat/wp-content/uploads/2024/02/geo.png
ORGANIZER;CN="CRIP":MAILTO:info@crip.cat
END:VEVENT
END:VCALENDAR